BEGIN:VCALENDAR
VERSION:2.0
PRODID:-//San Jaun BitDevs - ECPv6.0.12//NONSGML v1.0//EN
CALSCALE:GREGORIAN
METHOD:PUBLISH
X-ORIGINAL-URL:https://www.sanjuanbitdevs.org
X-WR-CALDESC:Events for San Jaun BitDevs
REFRESH-INTERVAL;VALUE=DURATION:PT1H
X-Robots-Tag:noindex
X-PUBLISHED-TTL:PT1H
BEGIN:VTIMEZONE
TZID:UTC
BEGIN:STANDARD
TZOFFSETFROM:+0000
TZOFFSETTO:+0000
TZNAME:UTC
DTSTART:20240101T000000
END:STANDARD
END:VTIMEZONE
BEGIN:VEVENT
DTSTART;TZID=UTC:20241030T190000
DTEND;TZID=UTC:20241030T210000
DTSTAMP:20260422T013303
CREATED:20241028T103154Z
LAST-MODIFIED:20241028T103155Z
UID:1829-1730314800-1730322000@www.sanjuanbitdevs.org
SUMMARY:Socratic Seminar #15
DESCRIPTION:Link to Slides 👉
URL:https://www.sanjuanbitdevs.org/event/socratic-seminar-15/
LOCATION:Buckeye Bitcoin\, 1666 Av. Juan Ponce de León\, San Juan\, 00909\, Puerto Rico
ATTACH;FMTTYPE=image/png:https://www.sanjuanbitdevs.org/wp-content/uploads/2024/10/Socratic-Seminar-15.png
END:VEVENT
END:VCALENDAR