BEGIN:VCALENDAR
VERSION:2.0
PRODID:-//San Jaun BitDevs - ECPv6.0.12//NONSGML v1.0//EN
CALSCALE:GREGORIAN
METHOD:PUBLISH
X-ORIGINAL-URL:https://www.sanjuanbitdevs.org
X-WR-CALDESC:Events for San Jaun BitDevs
REFRESH-INTERVAL;VALUE=DURATION:PT1H
X-Robots-Tag:noindex
X-PUBLISHED-TTL:PT1H
BEGIN:VTIMEZONE
TZID:UTC
BEGIN:STANDARD
TZOFFSETFROM:+0000
TZOFFSETTO:+0000
TZNAME:UTC
DTSTART:20240101T000000
END:STANDARD
END:VTIMEZONE
BEGIN:VEVENT
DTSTART;TZID=UTC:20240905T190000
DTEND;TZID=UTC:20240905T210000
DTSTAMP:20260422T225519
CREATED:20241028T102858Z
LAST-MODIFIED:20241028T102859Z
UID:1828-1725562800-1725570000@www.sanjuanbitdevs.org
SUMMARY:Socratic Seminar #14
DESCRIPTION:Link to Slides 👉 https://docs.google.com/presentation/d/1aqKXBXhTIKLkuADQIYGc0vgJ7xP4LHkdg9yDTb6lRmI/edit?usp=sharing
URL:https://www.sanjuanbitdevs.org/event/socratic-seminar-14/
LOCATION:Buckeye Bitcoin\, 1666 Av. Juan Ponce de León\, San Juan\, 00909\, Puerto Rico
ATTACH;FMTTYPE=image/png:https://www.sanjuanbitdevs.org/wp-content/uploads/2023/11/BTCPay-Day-Puerto-Rico-Flyer.png
END:VEVENT
BEGIN:VEVENT
DTSTART;TZID=UTC:20241030T190000
DTEND;TZID=UTC:20241030T210000
DTSTAMP:20260422T225519
CREATED:20241028T103154Z
LAST-MODIFIED:20241028T103155Z
UID:1829-1730314800-1730322000@www.sanjuanbitdevs.org
SUMMARY:Socratic Seminar #15
DESCRIPTION:Link to Slides 👉
URL:https://www.sanjuanbitdevs.org/event/socratic-seminar-15/
LOCATION:Buckeye Bitcoin\, 1666 Av. Juan Ponce de León\, San Juan\, 00909\, Puerto Rico
ATTACH;FMTTYPE=image/png:https://www.sanjuanbitdevs.org/wp-content/uploads/2024/10/Socratic-Seminar-15.png
END:VEVENT
BEGIN:VEVENT
DTSTART;TZID=UTC:20250115T180000
DTEND;TZID=UTC:20250115T210000
DTSTAMP:20260422T225519
CREATED:20250109T193610Z
LAST-MODIFIED:20250109T193611Z
UID:1837-1736964000-1736974800@www.sanjuanbitdevs.org
SUMMARY:Socratic Seminar #16
DESCRIPTION:Link to Slides 👉
URL:https://www.sanjuanbitdevs.org/event/socratic-seminar-16/
LOCATION:SPOT Art Gallery\, 2023 Calle Loiza\, San Juan\, PR\, 00907
ATTACH;FMTTYPE=image/png:https://www.sanjuanbitdevs.org/wp-content/uploads/2025/01/Lightning-Day.png
END:VEVENT
BEGIN:VEVENT
DTSTART;TZID=UTC:20251022T190000
DTEND;TZID=UTC:20251022T210000
DTSTAMP:20260422T225519
CREATED:20250927T222447Z
LAST-MODIFIED:20250927T222448Z
UID:1940-1761159600-1761166800@www.sanjuanbitdevs.org
SUMMARY:Socratic Seminar #17
DESCRIPTION:Link to Slides 👉
URL:https://www.sanjuanbitdevs.org/event/socratic-seminar-17/
ATTACH;FMTTYPE=image/png:https://www.sanjuanbitdevs.org/wp-content/uploads/2025/09/Bit-Devs_2.png
END:VEVENT
END:VCALENDAR