BEGIN:VCALENDAR
VERSION:2.0
PRODID:-//San Jaun BitDevs - ECPv6.0.12//NONSGML v1.0//EN
CALSCALE:GREGORIAN
METHOD:PUBLISH
X-WR-CALNAME:San Jaun BitDevs
X-ORIGINAL-URL:https://www.sanjuanbitdevs.org
X-WR-CALDESC:Events for San Jaun BitDevs
REFRESH-INTERVAL;VALUE=DURATION:PT1H
X-Robots-Tag:noindex
X-PUBLISHED-TTL:PT1H
BEGIN:VTIMEZONE
TZID:UTC
BEGIN:STANDARD
TZOFFSETFROM:+0000
TZOFFSETTO:+0000
TZNAME:UTC
DTSTART:20230101T000000
END:STANDARD
END:VTIMEZONE
BEGIN:VEVENT
DTSTART;TZID=UTC:20230327T190000
DTEND;TZID=UTC:20230327T210000
DTSTAMP:20260423T002510
CREATED:20230727T141124Z
LAST-MODIFIED:20231117T013456Z
UID:1698-1679943600-1679950800@www.sanjuanbitdevs.org
SUMMARY:Socratic Seminar #3
DESCRIPTION:Link to Slides 👉 https://docs.google.com/document/d/1LOLUrNKMX-_AHTulHh_jw130QZn-UIZouZ5VBMGJgOE/edit?usp=sharing
URL:https://www.sanjuanbitdevs.org/event/socratic-seminar-3/
LOCATION:Buckeye Bitcoin\, 1666 Av. Juan Ponce de León\, San Juan\, 00909\, Puerto Rico
ATTACH;FMTTYPE=image/png:https://www.sanjuanbitdevs.org/wp-content/uploads/2023/07/Socratic-Seminar-3.png
END:VEVENT
BEGIN:VEVENT
DTSTART;TZID=UTC:20230222T190000
DTEND;TZID=UTC:20230222T210000
DTSTAMP:20260423T002510
CREATED:20230727T141656Z
LAST-MODIFIED:20231117T014430Z
UID:1704-1677092400-1677099600@www.sanjuanbitdevs.org
SUMMARY:Socratic Seminar #2
DESCRIPTION:Link to Slides 👉 https://docs.google.com/presentation/d/1wAajUGIPhHlAOhzpOhU4wlGLM-UTOfiHcNJ8r6e3Oj8/edit#slide=id.p
URL:https://www.sanjuanbitdevs.org/event/socratic-seminar-2/
LOCATION:Buckeye Bitcoin\, 1666 Av. Juan Ponce de León\, San Juan\, 00909\, Puerto Rico
ATTACH;FMTTYPE=image/png:https://www.sanjuanbitdevs.org/wp-content/uploads/2023/07/Socratic-Seminar-2.png
END:VEVENT
BEGIN:VEVENT
DTSTART;TZID=UTC:20230125T190000
DTEND;TZID=UTC:20230125T210000
DTSTAMP:20260423T002510
CREATED:20230727T141706Z
LAST-MODIFIED:20231117T015333Z
UID:1701-1674673200-1674680400@www.sanjuanbitdevs.org
SUMMARY:Socratic Seminar #1
DESCRIPTION:Link to Slides 👉 https://docs.google.com/presentation/d/1wAajUGIPhHlAOhzpOhU4wlGLM-UTOfiHcNJ8r6e3Oj8/edit?usp=sharing
URL:https://www.sanjuanbitdevs.org/event/socratic-seminar-1/
LOCATION:Buckeye Bitcoin\, 1666 Av. Juan Ponce de León\, San Juan\, 00909\, Puerto Rico
ATTACH;FMTTYPE=image/png:https://www.sanjuanbitdevs.org/wp-content/uploads/2023/07/Socratic-Seminar-19.png
END:VEVENT
END:VCALENDAR