BEGIN:VCALENDAR
VERSION:2.0
PRODID:-//San Jaun BitDevs - ECPv6.0.12//NONSGML v1.0//EN
CALSCALE:GREGORIAN
METHOD:PUBLISH
X-WR-CALNAME:San Jaun BitDevs
X-ORIGINAL-URL:https://www.sanjuanbitdevs.org
X-WR-CALDESC:Events for San Jaun BitDevs
REFRESH-INTERVAL;VALUE=DURATION:PT1H
X-Robots-Tag:noindex
X-PUBLISHED-TTL:PT1H
BEGIN:VTIMEZONE
TZID:UTC
BEGIN:STANDARD
TZOFFSETFROM:+0000
TZOFFSETTO:+0000
TZNAME:UTC
DTSTART:20240101T000000
END:STANDARD
END:VTIMEZONE
BEGIN:VEVENT
DTSTART;TZID=UTC:20240315T190000
DTEND;TZID=UTC:20240315T210000
DTSTAMP:20260422T115054
CREATED:20240223T162929Z
LAST-MODIFIED:20240320T225626Z
UID:1814-1710529200-1710536400@www.sanjuanbitdevs.org
SUMMARY:Socratic Seminar #12
DESCRIPTION:Link to Slides 👉 https://docs.google.com/presentation/d/16aCqHtUgyyrxLLNu-IeVNw-UNRnuTUUTcdKoGCFxFhs/edit?usp=sharing
URL:https://www.sanjuanbitdevs.org/event/socratic-seminar-12/
LOCATION:Buckeye Bitcoin\, 1666 Av. Juan Ponce de León\, San Juan\, 00909\, Puerto Rico
ATTACH;FMTTYPE=image/jpeg:https://www.sanjuanbitdevs.org/wp-content/uploads/2024/02/photo_2024-02-23-08.27.55.jpeg
END:VEVENT
END:VCALENDAR