BEGIN:VCALENDAR
VERSION:2.0
PRODID:-//San Jaun BitDevs - ECPv6.0.12//NONSGML v1.0//EN
CALSCALE:GREGORIAN
METHOD:PUBLISH
X-WR-CALNAME:San Jaun BitDevs
X-ORIGINAL-URL:https://www.sanjuanbitdevs.org
X-WR-CALDESC:Events for San Jaun BitDevs
REFRESH-INTERVAL;VALUE=DURATION:PT1H
X-Robots-Tag:noindex
X-PUBLISHED-TTL:PT1H
BEGIN:VTIMEZONE
TZID:UTC
BEGIN:STANDARD
TZOFFSETFROM:+0000
TZOFFSETTO:+0000
TZNAME:UTC
DTSTART:20240101T000000
END:STANDARD
END:VTIMEZONE
BEGIN:VEVENT
DTSTART;TZID=UTC:20240614T190000
DTEND;TZID=UTC:20240614T210000
DTSTAMP:20260422T072656
CREATED:20240531T200334Z
LAST-MODIFIED:20240531T200335Z
UID:1824-1718391600-1718398800@www.sanjuanbitdevs.org
SUMMARY:Socratic Seminar #13
DESCRIPTION:Link to Slides 👉
URL:https://www.sanjuanbitdevs.org/event/socratic-seminar-13/
LOCATION:Buckeye Bitcoin\, 1666 Av. Juan Ponce de León\, San Juan\, 00909\, Puerto Rico
ATTACH;FMTTYPE=image/jpeg:https://www.sanjuanbitdevs.org/wp-content/uploads/2024/05/photo_2024-05-31-15.54.33.jpeg
END:VEVENT
END:VCALENDAR